{
 "currentVersion": 10.91,
 "cimVersion": "2.9.0",
 "serviceDescription": "",
 "mapName": "Map",
 "description": "",
 "copyrightText": "",
 "supportsDynamicLayers": false,
 "layers": [
  {
   "id": 0,
   "name": "Nutley Storm Sewer Map.tiff",
   "parentLayerId": -1,
   "defaultVisibility": true,
   "subLayerIds": null,
   "minScale": 0,
   "maxScale": 0,
   "type": "Raster Layer",
   "supportsDynamicLegends": true
  }
 ],
 "tables": [],
 "spatialReference": {
  "wkid": 102711,
  "latestWkid": 3424,
  "xyTolerance": 0.003280833333333333,
  "zTolerance": 0.001,
  "mTolerance": 0.001,
  "falseX": -17954600,
  "falseY": -46918100,
  "xyUnits": 3048.0060960121928,
  "falseZ": -100000,
  "zUnits": 10000,
  "falseM": -100000,
  "mUnits": 10000
 },
 "singleFusedMapCache": true,
 "tileInfo": {
  "rows": 256,
  "cols": 256,
  "dpi": 96,
  "format": "Mixed",
  "compressionQuality": 75,
  "origin": {
   "x": -3.2319372804219306E7,
   "y": 1.8705319752675243E7
  },
  "spatialReference": {
   "wkid": 102711,
   "latestWkid": 3424,
   "xyTolerance": 0.003280833333333333,
   "zTolerance": 0.001,
   "mTolerance": 0.001,
   "falseX": -17954600,
   "falseY": -46918100,
   "xyUnits": 3048.0060960121928,
   "falseZ": -100000,
   "zUnits": 10000,
   "falseM": -100000,
   "mUnits": 10000
  },
  "lods": [
   {
    "level": 0,
    "resolution": 256339.82659546332,
    "scale": 2.9530407084611547E8
   },
   {
    "level": 1,
    "resolution": 128169.91329773166,
    "scale": 1.4765203542305773E8
   },
   {
    "level": 2,
    "resolution": 64084.95664886583,
    "scale": 7.382601771152887E7
   },
   {
    "level": 3,
    "resolution": 32042.478324432916,
    "scale": 3.6913008855764434E7
   },
   {
    "level": 4,
    "resolution": 16021.239162216458,
    "scale": 1.8456504427882217E7
   },
   {
    "level": 5,
    "resolution": 8010.619581108229,
    "scale": 9228252.213941108
   },
   {
    "level": 6,
    "resolution": 4005.3097905541144,
    "scale": 4614126.106970554
   },
   {
    "level": 7,
    "resolution": 2002.6548952770572,
    "scale": 2307063.053485277
   },
   {
    "level": 8,
    "resolution": 1001.3274476385286,
    "scale": 1153531.5267426386
   },
   {
    "level": 9,
    "resolution": 500.6637238192643,
    "scale": 576765.7633713193
   },
   {
    "level": 10,
    "resolution": 250.33186190963215,
    "scale": 288382.88168565964
   },
   {
    "level": 11,
    "resolution": 125.16593095481608,
    "scale": 144191.44084282982
   },
   {
    "level": 12,
    "resolution": 62.58296547740804,
    "scale": 72095.72042141491
   },
   {
    "level": 13,
    "resolution": 31.29148273870402,
    "scale": 36047.860210707455
   },
   {
    "level": 14,
    "resolution": 15.64574136935201,
    "scale": 18023.930105353727
   },
   {
    "level": 15,
    "resolution": 7.822870684676005,
    "scale": 9011.965052676864
   },
   {
    "level": 16,
    "resolution": 3.9114353423380024,
    "scale": 4505.982526338432
   },
   {
    "level": 17,
    "resolution": 1.9557176711690012,
    "scale": 2252.991263169216
   },
   {
    "level": 18,
    "resolution": 0.9778588355845006,
    "scale": 1126.495631584608
   }
  ]
 },
 "storageInfo": {
  "storageFormat": "esriMapCacheStorageModeCompactV2",
  "packetSize": 128
 },
 "initialExtent": {
  "xmin": 576226.7827789696,
  "ymin": 717950.4906760403,
  "xmax": 596498.9045060117,
  "ymax": 731027.6501462867,
  "spatialReference": {
   "wkid": 102711,
   "latestWkid": 3424,
   "xyTolerance": 0.003280833333333333,
   "zTolerance": 0.001,
   "mTolerance": 0.001,
   "falseX": -17954600,
   "falseY": -46918100,
   "xyUnits": 3048.0060960121928,
   "falseZ": -100000,
   "zUnits": 10000,
   "falseM": -100000,
   "mUnits": 10000
  }
 },
 "fullExtent": {
  "xmin": 578645.7895573108,
  "ymin": 716875.3188245511,
  "xmax": 596722.706455678,
  "ymax": 731898.3124838906,
  "spatialReference": {
   "wkid": 102711,
   "latestWkid": 3424,
   "xyTolerance": 0.003280833333333333,
   "zTolerance": 0.001,
   "mTolerance": 0.001,
   "falseX": -17954600,
   "falseY": -46918100,
   "xyUnits": 3048.0060960121928,
   "falseZ": -100000,
   "zUnits": 10000,
   "falseM": -100000,
   "mUnits": 10000
  }
 },
 "datesInUnknownTimezone": false,
 "units": "esriFeet",
 "supportedImageFormatTypes": "PNG32,PNG24,PNG,JPG,DIB,TIFF,EMF,PS,PDF,GIF,SVG,SVGZ,BMP",
 "documentInfo": {
  "Title": "C:\\Users\\apatterson\\OneDrive - PENNONI\\Documents\\ArcGIS\\Projects\\Nutley\\Nutley.aprx",
  "Author": "",
  "Comments": "",
  "Subject": "",
  "Category": "",
  "AntialiasingMode": "None",
  "TextAntialiasingMode": "Force",
  "Version": "2.9.0",
  "Keywords": ""
 },
 "supportedQueryFormats": "JSON, geoJSON, PBF",
 "referenceScale": 0.0,
 "datumTransformations": [
  {
   "geoTransforms": [
    {
     "wkid": 108190,
     "latestWkid": 108190,
     "transformForward": true,
     "name": "WGS_1984_(ITRF00)_To_NAD_1983"
    }
   ]
  },
  {
   "geoTransforms": [
    {
     "wkid": 108190,
     "latestWkid": 108190,
     "transformForward": false,
     "name": "WGS_1984_(ITRF00)_To_NAD_1983"
    }
   ]
  },
  {
   "geoTransforms": [
    {
     "wkid": 108190,
     "latestWkid": 108190,
     "transformForward": true,
     "name": "WGS_1984_(ITRF00)_To_NAD_1983"
    }
   ]
  },
  {
   "geoTransforms": [
    {
     "wkid": 108190,
     "latestWkid": 108190,
     "transformForward": false,
     "name": "WGS_1984_(ITRF00)_To_NAD_1983"
    }
   ]
  }
 ],
 "supportsDatumTransformation": true,
 "floorAwareMapProperties": {
  "defaultFloorFilterSettings": {
   "isEnabled": true
  }
 },
 "archivingInfo": {
  "supportsHistoricMoment": false
 },
 "supportsClipping": true,
 "supportsSpatialFilter": true,
 "supportsTimeRelation": true,
 "supportsQueryDataElements": true,
 "maxRecordCount": 1000,
 "maxImageHeight": 4096,
 "maxImageWidth": 4096,
 "capabilities": "TilesOnly,Tilemap",
 "minScale": 36047.860210707455,
 "maxScale": 4505.982526338432,
 "exportTilesAllowed": false,
 "maxExportTilesCount": 100000,
 "minLOD": 13,
 "maxLOD": 16,
 "supportedExtensions": "",
 "serviceItemId": "e3e3cbd8e3e04c9895f6721a23ce1c10"
}
